BEGIN:VCALENDAR
VERSION:2.0
PRODID:-//Miejski Ośrodek Kultury w Głubczycach - ECPv6.15.20//NONSGML v1.0//EN
CALSCALE:GREGORIAN
METHOD:PUBLISH
X-ORIGINAL-URL:https://glubczyce-kultura.pl
X-WR-CALDESC:Wydarzenia dla Miejski Ośrodek Kultury w Głubczycach
REFRESH-INTERVAL;VALUE=DURATION:PT1H
X-Robots-Tag:noindex
X-PUBLISHED-TTL:PT1H
BEGIN:VTIMEZONE
TZID:Europe/Warsaw
BEGIN:DAYLIGHT
TZOFFSETFROM:+0100
TZOFFSETTO:+0200
TZNAME:CEST
DTSTART:20190331T010000
END:DAYLIGHT
BEGIN:STANDARD
TZOFFSETFROM:+0200
TZOFFSETTO:+0100
TZNAME:CET
DTSTART:20191027T010000
END:STANDARD
BEGIN:DAYLIGHT
TZOFFSETFROM:+0100
TZOFFSETTO:+0200
TZNAME:CEST
DTSTART:20200329T010000
END:DAYLIGHT
BEGIN:STANDARD
TZOFFSETFROM:+0200
TZOFFSETTO:+0100
TZNAME:CET
DTSTART:20201025T010000
END:STANDARD
BEGIN:DAYLIGHT
TZOFFSETFROM:+0100
TZOFFSETTO:+0200
TZNAME:CEST
DTSTART:20210328T010000
END:DAYLIGHT
BEGIN:STANDARD
TZOFFSETFROM:+0200
TZOFFSETTO:+0100
TZNAME:CET
DTSTART:20211031T010000
END:STANDARD
BEGIN:DAYLIGHT
TZOFFSETFROM:+0100
TZOFFSETTO:+0200
TZNAME:CEST
DTSTART:20220327T010000
END:DAYLIGHT
BEGIN:STANDARD
TZOFFSETFROM:+0200
TZOFFSETTO:+0100
TZNAME:CET
DTSTART:20221030T010000
END:STANDARD
BEGIN:DAYLIGHT
TZOFFSETFROM:+0100
TZOFFSETTO:+0200
TZNAME:CEST
DTSTART:20230326T010000
END:DAYLIGHT
BEGIN:STANDARD
TZOFFSETFROM:+0200
TZOFFSETTO:+0100
TZNAME:CET
DTSTART:20231029T010000
END:STANDARD
END:VTIMEZONE
BEGIN:VEVENT
DTSTART;TZID=Europe/Warsaw:20220409T140000
DTEND;TZID=Europe/Warsaw:20220409T210000
DTSTAMP:20260421T171516
CREATED:20220330T083846Z
LAST-MODIFIED:20220330T083846Z
UID:2135-1649512800-1649538000@glubczyce-kultura.pl
SUMMARY:Kino
DESCRIPTION:ZAPRASZAMY – 9.04. 2022 – DO KINA \nBilety do kupienia na stronie: www.film.opole.pl
URL:https://glubczyce-kultura.pl/event/kino/
LOCATION:Sala Widowiskowa MOK Głubczyce\, Kościuszki 24\, Głubczyce
CATEGORIES:Kino
ATTACH;FMTTYPE=image/jpeg:https://glubczyce-kultura.pl/wp-content/uploads/2022/03/Kino-09.04.2022.jpg
END:VEVENT
BEGIN:VEVENT
DTSTART;TZID=Europe/Warsaw:20211106T150000
DTEND;TZID=Europe/Warsaw:20211106T213000
DTSTAMP:20260421T171516
CREATED:20211013T095904Z
LAST-MODIFIED:20211013T095904Z
UID:2004-1636210800-1636234200@glubczyce-kultura.pl
SUMMARY:Zapraszamy do kina!!!
DESCRIPTION:Bilety do kupienia na stronie: www.film.opole.pl
URL:https://glubczyce-kultura.pl/event/zapraszamy-do-kina-7/
LOCATION:Sala Widowiskowa MOK Głubczyce\, Kościuszki 24\, Głubczyce
CATEGORIES:Kino
ATTACH;FMTTYPE=image/jpeg:https://glubczyce-kultura.pl/wp-content/uploads/2021/10/245340187_4463545657061210_5065394315036397777_n.jpg
END:VEVENT
BEGIN:VEVENT
DTSTART;TZID=Europe/Warsaw:20201018T160000
DTEND;TZID=Europe/Warsaw:20201018T220000
DTSTAMP:20260421T171516
CREATED:20201004T113559Z
LAST-MODIFIED:20201004T113908Z
UID:1633-1603036800-1603058400@glubczyce-kultura.pl
SUMMARY:Zapraszamy do kina!!!
DESCRIPTION:UWAGA! UWAGA! UWAGA!\n18.10.2020 r. ZAPRASZAMY DO MIEJSKIEGO OŚRODKA KULTURY W GŁUBCZYCACH NA DOBRE KINO \n\n\n\n16.00 – Waleczne rybki.\n18.00 – Jak zostać gwiazdą.\n20.15 – 25 lat niewinności. Sprawa Tomka Komendy.\nBilety: normalny: 18\,- ulgowy: 16\,-\nBilety można kupić na stronie: www.film.opole.pl lub bezpośrednio przed seansem  ZAPRASZAMY!\nZACHĘCAMY DO ZAKUPU BILETÓW PRZEZ INTERNET! BEZ STRESU I BEZ KOLEJKI \n\n                                                    
URL:https://glubczyce-kultura.pl/event/zapraszamy-do-kina-6/
CATEGORIES:Kino
ATTACH;FMTTYPE=image/jpeg:https://glubczyce-kultura.pl/wp-content/uploads/2020/10/120373941_3383213305094456_1206584647963977817_o.jpg
END:VEVENT
BEGIN:VEVENT
DTSTART;TZID=Europe/Warsaw:20200927T160000
DTEND;TZID=Europe/Warsaw:20200927T220000
DTSTAMP:20260421T171516
CREATED:20200904T101523Z
LAST-MODIFIED:20200904T101523Z
UID:1619-1601222400-1601244000@glubczyce-kultura.pl
SUMMARY:Zapraszamy do kina!!!
DESCRIPTION:UWAGA! UWAGA! UWAGA!\n\n\n27.09.2020 r. ZAPRASZAMY DO MIEJSKIEGO OŚRODKA KULTURY W GŁUBCZYCACH NA DOBRE KINO \n\n\n\n16.00- O czym marzą zwierzęta\n\n\n18.00- Pętla\n\n\n20.00-Pętla\n\n\nBilety: normalny: 18\,- ulgowy: 16\,-\n\n\nBilety można kupić na stronie: www.film.opole.pl lub bezpośrednio przed seansem  ZAPRASZAMY!\n\n\nZACHĘCAMY DO ZAKUPU BILETÓW PRZEZ INTERNET! BEZ STRESU I BEZ KOLEJKI
URL:https://glubczyce-kultura.pl/event/zapraszamy-do-kina-5/
LOCATION:Sala Widowiskowa MOK Głubczyce\, Kościuszki 24\, Głubczyce
CATEGORIES:Kino
ATTACH;FMTTYPE=image/jpeg:https://glubczyce-kultura.pl/wp-content/uploads/2020/09/118889124_3311729465576174_6738829881737123688_o.jpg
END:VEVENT
BEGIN:VEVENT
DTSTART;TZID=Europe/Warsaw:20200208T150000
DTEND;TZID=Europe/Warsaw:20200208T210000
DTSTAMP:20260421T171516
CREATED:20200117T085451Z
LAST-MODIFIED:20200117T085451Z
UID:1221-1581174000-1581195600@glubczyce-kultura.pl
SUMMARY:Zapraszamy do kina!!!
DESCRIPTION:UWAGA! UWAGA! UWAGA! \n08.02.2020 r. ZAPRASZAMY DO MIEJSKIEGO OŚRODKA KULTURY W GŁUBCZYCACH NA DOBRE KINO ?\n?????????????????? \n\n15.00 – Tajni i fajni.\n17.00 – 365 dni.\n19.00 – Psy 3. W imię zasad. \nBilety: normalny: 16\,- ulgowy: 14\,- \nBilety można kupić na stronie: www.film.opole.pl lub bezpośrednio przed seansem 🙂 ZAPRASZAMY! \nZACHĘCAMY DO ZAKUPU BILETÓW PRZEZ INTERNET! BEZ STRESU I BEZ KOLEJKI ?
URL:https://glubczyce-kultura.pl/event/zapraszamy-do-kina-3/
LOCATION:Sala Widowiskowa MOK Głubczyce\, Kościuszki 24\, Głubczyce
CATEGORIES:Kino
ATTACH;FMTTYPE=image/jpeg:https://glubczyce-kultura.pl/wp-content/uploads/2020/01/82478137_2728834860532307_7770432236100255744_n.jpg
END:VEVENT
BEGIN:VEVENT
DTSTART;TZID=Europe/Warsaw:20200111T150000
DTEND;TZID=Europe/Warsaw:20200111T210000
DTSTAMP:20260421T171516
CREATED:20200103T110345Z
LAST-MODIFIED:20200103T110345Z
UID:1198-1578754800-1578776400@glubczyce-kultura.pl
SUMMARY:Zapraszamy do kina!!!
DESCRIPTION:UWAGA! UWAGA! UWAGA! \n11.01.2020 r. ZAPRASZAMY DO MIEJSKIEGO OŚRODKA KULTURY W GŁUBCZYCACH NA DOBRE KINO ?\n?????????????????? \n\n15.00 – Misiek i chiński skarb\n17.00 – Mayday\n19.00 – Solid Gold \nBilety: normalny: 16\,- ulgowy: 14\,- \nBilety można kupić na stronie: www.film.opole.pl lub bezpośrednio przed seansem  ZAPRASZAMY!
URL:https://glubczyce-kultura.pl/event/zapraszamy-do-kina-2/
LOCATION:Sala Widowiskowa MOK Głubczyce\, Kościuszki 24\, Głubczyce
CATEGORIES:Kino
END:VEVENT
END:VCALENDAR