BEGIN:VCALENDAR
VERSION:2.0
PRODID:-//Miejski Ośrodek Kultury w Głubczycach - ECPv6.15.20//NONSGML v1.0//EN
CALSCALE:GREGORIAN
METHOD:PUBLISH
X-WR-CALNAME:Miejski Ośrodek Kultury w Głubczycach
X-ORIGINAL-URL:https://glubczyce-kultura.pl
X-WR-CALDESC:Wydarzenia dla Miejski Ośrodek Kultury w Głubczycach
REFRESH-INTERVAL;VALUE=DURATION:PT1H
X-Robots-Tag:noindex
X-PUBLISHED-TTL:PT1H
BEGIN:VTIMEZONE
TZID:Europe/Warsaw
BEGIN:DAYLIGHT
TZOFFSETFROM:+0100
TZOFFSETTO:+0200
TZNAME:CEST
DTSTART:20210328T010000
END:DAYLIGHT
BEGIN:STANDARD
TZOFFSETFROM:+0200
TZOFFSETTO:+0100
TZNAME:CET
DTSTART:20211031T010000
END:STANDARD
BEGIN:DAYLIGHT
TZOFFSETFROM:+0100
TZOFFSETTO:+0200
TZNAME:CEST
DTSTART:20220327T010000
END:DAYLIGHT
BEGIN:STANDARD
TZOFFSETFROM:+0200
TZOFFSETTO:+0100
TZNAME:CET
DTSTART:20221030T010000
END:STANDARD
BEGIN:DAYLIGHT
TZOFFSETFROM:+0100
TZOFFSETTO:+0200
TZNAME:CEST
DTSTART:20230326T010000
END:DAYLIGHT
BEGIN:STANDARD
TZOFFSETFROM:+0200
TZOFFSETTO:+0100
TZNAME:CET
DTSTART:20231029T010000
END:STANDARD
END:VTIMEZONE
BEGIN:VEVENT
DTSTART;TZID=Europe/Warsaw:20220527T170000
DTEND;TZID=Europe/Warsaw:20220529T230000
DTSTAMP:20260419T223226
CREATED:20220516T071158Z
LAST-MODIFIED:20220516T071158Z
UID:2193-1653670800-1653865200@glubczyce-kultura.pl
SUMMARY:Majówkowe Dni Miasta 2022
DESCRIPTION:Majówkowe Dni Miasta przed nami!!!\nWidzimy się 27\, 28 i 29 maja na rynku pod ratuszem.\nBawimy się przez 3 dni \n\n\nImpreza odbywa się w ramach projektu „Śląskie Portamento”
URL:https://glubczyce-kultura.pl/event/majowkowe-dni-miasta-2022/
LOCATION:Scena pod ratuszem\, Rynek 1\, Głubczyce
CATEGORIES:Scena
ATTACH;FMTTYPE=image/jpeg:https://glubczyce-kultura.pl/wp-content/uploads/2022/05/plakat-Dni-Miasta-2022-scaled.jpg
END:VEVENT
END:VCALENDAR