BEGIN:VCALENDAR
VERSION:2.0
PRODID:-//Miejski Ośrodek Kultury w Głubczycach - ECPv6.15.20//NONSGML v1.0//EN
CALSCALE:GREGORIAN
METHOD:PUBLISH
X-ORIGINAL-URL:https://glubczyce-kultura.pl
X-WR-CALDESC:Wydarzenia dla Miejski Ośrodek Kultury w Głubczycach
REFRESH-INTERVAL;VALUE=DURATION:PT1H
X-Robots-Tag:noindex
X-PUBLISHED-TTL:PT1H
BEGIN:VTIMEZONE
TZID:Europe/Warsaw
BEGIN:DAYLIGHT
TZOFFSETFROM:+0100
TZOFFSETTO:+0200
TZNAME:CEST
DTSTART:20210328T010000
END:DAYLIGHT
BEGIN:STANDARD
TZOFFSETFROM:+0200
TZOFFSETTO:+0100
TZNAME:CET
DTSTART:20211031T010000
END:STANDARD
BEGIN:DAYLIGHT
TZOFFSETFROM:+0100
TZOFFSETTO:+0200
TZNAME:CEST
DTSTART:20220327T010000
END:DAYLIGHT
BEGIN:STANDARD
TZOFFSETFROM:+0200
TZOFFSETTO:+0100
TZNAME:CET
DTSTART:20221030T010000
END:STANDARD
BEGIN:DAYLIGHT
TZOFFSETFROM:+0100
TZOFFSETTO:+0200
TZNAME:CEST
DTSTART:20230326T010000
END:DAYLIGHT
BEGIN:STANDARD
TZOFFSETFROM:+0200
TZOFFSETTO:+0100
TZNAME:CET
DTSTART:20231029T010000
END:STANDARD
END:VTIMEZONE
BEGIN:VEVENT
DTSTART;TZID=Europe/Warsaw:20220227T170000
DTEND;TZID=Europe/Warsaw:20220227T190000
DTSTAMP:20260419T233935
CREATED:20220202T094627Z
LAST-MODIFIED:20220214T124051Z
UID:2082-1645981200-1645988400@glubczyce-kultura.pl
SUMMARY:Koncert Walentynkowy
DESCRIPTION:Uwaga!!!\nZe względu na śmierć naszego Współpracownika\, koncert został przeniesiony na 27.02.2022r.\n\nZapraszamy na koncert walentynkowy \nA właściwie dwa koncerty:\nBlues Trio\noraz\nTango na kwartet i pianistę.\n\nW programie min. Vanesa Harbek niezwykle utalentowana pochodząca z Argentyny gitarzystka\, wokalistka i trębaczka oraz showmanka. Jej ognista muzyka\, z pogranicza bluesa\, jazzu\, rocka i soulu czerpiąca z tradycji południowoamerykańskiej i karaibskiej budziła zachwyt w większości krajów Europy\, Ameryki Północnej i Południowej.\nVanesa dzieliła scenę z takimi artystami jak: Igor Prado\, Decio Caetano\, Big Gilson\, David Tanganelli\, Omar Coleman\, Sugar Blue\, Dave Riley\, Linsey Alexander y Vino Louden (USA)\, Antonio Vergara\, Kenny Blues Boss Wayne\, Marcos Coll\, Daryl Taylor\, Rico MacClarrin czy Vargas Blues Band.\nNa swojej pierwszej trasie koncertowej w Polsce\, wystąpi ze znakomitym zespołem w składzie: Krzysztof Puma Piasecki – guit.\, Łukasz Gorczyca – bass\, Tomasz Dominik – dr.\nWSTĘP WOLNY
URL:https://glubczyce-kultura.pl/event/koncert-walentynkowy/
LOCATION:Sala Widowiskowa MOK Głubczyce\, Kościuszki 24\, Głubczyce
CATEGORIES:Scena
ATTACH;FMTTYPE=image/jpeg:https://glubczyce-kultura.pl/wp-content/uploads/2022/02/272876410_4850693005013138_968762751893066089_n.jpg
END:VEVENT
END:VCALENDAR