BEGIN:VCALENDAR
VERSION:2.0
PRODID:-//Miejski Ośrodek Kultury w Głubczycach - ECPv6.15.20//NONSGML v1.0//EN
CALSCALE:GREGORIAN
METHOD:PUBLISH
X-ORIGINAL-URL:https://glubczyce-kultura.pl
X-WR-CALDESC:Wydarzenia dla Miejski Ośrodek Kultury w Głubczycach
REFRESH-INTERVAL;VALUE=DURATION:PT1H
X-Robots-Tag:noindex
X-PUBLISHED-TTL:PT1H
BEGIN:VTIMEZONE
TZID:Europe/Warsaw
BEGIN:DAYLIGHT
TZOFFSETFROM:+0100
TZOFFSETTO:+0200
TZNAME:CEST
DTSTART:20190331T010000
END:DAYLIGHT
BEGIN:STANDARD
TZOFFSETFROM:+0200
TZOFFSETTO:+0100
TZNAME:CET
DTSTART:20191027T010000
END:STANDARD
BEGIN:DAYLIGHT
TZOFFSETFROM:+0100
TZOFFSETTO:+0200
TZNAME:CEST
DTSTART:20200329T010000
END:DAYLIGHT
BEGIN:STANDARD
TZOFFSETFROM:+0200
TZOFFSETTO:+0100
TZNAME:CET
DTSTART:20201025T010000
END:STANDARD
BEGIN:DAYLIGHT
TZOFFSETFROM:+0100
TZOFFSETTO:+0200
TZNAME:CEST
DTSTART:20210328T010000
END:DAYLIGHT
BEGIN:STANDARD
TZOFFSETFROM:+0200
TZOFFSETTO:+0100
TZNAME:CET
DTSTART:20211031T010000
END:STANDARD
END:VTIMEZONE
BEGIN:VEVENT
DTSTART;TZID=Europe/Warsaw:20200126T170000
DTEND;TZID=Europe/Warsaw:20200126T190000
DTSTAMP:20260421T190109
CREATED:20191202T111116Z
LAST-MODIFIED:20191205T090233Z
UID:1158-1580058000-1580065200@glubczyce-kultura.pl
SUMMARY:"Kobieta idealna" w Głubczycach!!!
DESCRIPTION:26 stycznia „Kobieta idealna” odwiedzi Głubczyce! \nSpektakl odbędzie się w Miejskim Ośrodku Kultury w Głubczycach o godz.17:00 \nCena biletu: 70zł \nBilety do nabycia jedynie na stronie kupbilecik.pl! \n\nJeśli będziecie mieć problem z zamówieniem biletu przez internet\, zapraszamy do sekretariatu MOK. Pomożemy Wam w tej sprawie ?\n\n\nGreta i Albert\, małżeństwo aktorów wiedzie szalone życie walcząc o swoje miejsce na scenie i w związku. Czy należy się godzić z upływającym czasem? Każde z nich radzi sobie z tym na swój sposób. Greta stawia czoła przyszłości za pomocą zabiegów chirurgii estetycznej powoli tracąc rysy twarzy\, natomiast Albert biernie się jej poddaje… do czasu. Przyszłość… Co przyniesie kolejny dzień? I jak nie dać się zepchnąć ze sceny\, nie tylko tej zwanej życiem? Pewnego dnia w życiu małżeńskiego duetu pojawia się dwóch braci. Modest jest lekarzem medycyny estetycznej oferującym Grecie wieczną młodość\, a może i miłość? Jego starszy brat\, Gerard to mecenas\, który reprezentuje tylko bogatych i wpływowych klientów. Który z nich skrywa tajemnicę? A gdyby pewnego dnia Twoja ciotka umarła i zapisała Ci w spadku siedemdziesiąt milionów dolarów? Mecenas Gerard musi skontaktować się z Gretą\, żeby przekazać jej spadek. Od tej chwili gra idzie o najwyższą stawkę. Albert przypadkowo odbiera telefon od mecenasa i wymyśla plan akcji \, żeby jako Greta przejąć spadek. Nie spodziewa się\, że mecenas już dokładnie wszystko zaplanował aby wyłudzić majątek. Kto ostatecznie wpadnie w czyją pułapkę i kto okaże się mistrzem blefu? Czy na pewno wszystko jest takie\, jak nam się wydaje? Znakomita komedia pomyłek\, pełna intryg i zwrotów akcji\, która na wesoło ukazuje rozterki każdego z nas. Sekret\, spisek\, zmowa\, oszustwo\, gierki\, romans; jak się w tym wszystkim nie pogubić\, skoro każdy ma coś do ukrycia? Wszyscy grają przemyślane przez siebie role. Uleczyć ich może tylko prawdziwa miłość\, ale jak się połapać\, kto jest kim\, żeby odpowiednio ulokować uczucia? Doskonała komedia o mieszaniu ról damsko-męskich\, o konieczności łączenia sił i o znajdywaniu radości w małych rzeczach. Niezrównany popis aktorski. Bezkonkurencyjna wartka fabuła osadzona w naszej rzeczywistości. Czy kobieta idealna istnieje? Świetna komedia\, ale chyba zbyt optymistyczna. \n\n\nPokaż mniej
URL:https://glubczyce-kultura.pl/event/kobieta-idealna-w-glubczycach/
LOCATION:Sala Widowiskowa MOK Głubczyce\, Kościuszki 24\, Głubczyce
CATEGORIES:Scena
ATTACH;FMTTYPE=image/jpeg:https://glubczyce-kultura.pl/wp-content/uploads/2019/12/74397201_783709285412438_156020803060629504_o.jpg
END:VEVENT
END:VCALENDAR