BEGIN:VCALENDAR
VERSION:2.0
PRODID:-//Miejski Ośrodek Kultury w Głubczycach - ECPv6.15.20//NONSGML v1.0//EN
CALSCALE:GREGORIAN
METHOD:PUBLISH
X-ORIGINAL-URL:https://glubczyce-kultura.pl
X-WR-CALDESC:Wydarzenia dla Miejski Ośrodek Kultury w Głubczycach
REFRESH-INTERVAL;VALUE=DURATION:PT1H
X-Robots-Tag:noindex
X-PUBLISHED-TTL:PT1H
BEGIN:VTIMEZONE
TZID:Europe/Paris
BEGIN:DAYLIGHT
TZOFFSETFROM:+0100
TZOFFSETTO:+0200
TZNAME:CEST
DTSTART:20180325T010000
END:DAYLIGHT
BEGIN:STANDARD
TZOFFSETFROM:+0200
TZOFFSETTO:+0100
TZNAME:CET
DTSTART:20181028T010000
END:STANDARD
BEGIN:DAYLIGHT
TZOFFSETFROM:+0100
TZOFFSETTO:+0200
TZNAME:CEST
DTSTART:20190331T010000
END:DAYLIGHT
BEGIN:STANDARD
TZOFFSETFROM:+0200
TZOFFSETTO:+0100
TZNAME:CET
DTSTART:20191027T010000
END:STANDARD
BEGIN:DAYLIGHT
TZOFFSETFROM:+0100
TZOFFSETTO:+0200
TZNAME:CEST
DTSTART:20200329T010000
END:DAYLIGHT
BEGIN:STANDARD
TZOFFSETFROM:+0200
TZOFFSETTO:+0100
TZNAME:CET
DTSTART:20201025T010000
END:STANDARD
END:VTIMEZONE
BEGIN:VEVENT
DTSTART;TZID=Europe/Paris:20190208T120000
DTEND;TZID=Europe/Paris:20190208T140000
DTSTAMP:20260421T152148
CREATED:20190228T073412Z
LAST-MODIFIED:20190228T073412Z
UID:768-1549627200-1549634400@glubczyce-kultura.pl
SUMMARY:Słodkie ferie - kulinarne zajęcia dla dzieci
DESCRIPTION:Miejski Ośrodek Kultury zaprasza wszystkie dzieci\, które lubią pomagać rodzicom w kuchni\, na słodkie zajęcia kulinarne. Nauczymy się wspólnie robić pyszne\, czekoladowe ciasteczka ??☕ Spotkanie organizowane jest w ramach ferii zimowych. \n8 luty 2019r\, godz. 12:00 klub „Na skrzyżowaniu” MOK Głubczyce \nWstęp wolny!!!
URL:https://glubczyce-kultura.pl/event/slodkie-ferie-kulinarne-zajecia-dla-dzieci/
LOCATION:Klub na Skrzyżowaniu\, Kościuszki 24\, Głubczyce
CATEGORIES:Warsztaty
ATTACH;FMTTYPE=image/jpeg:https://glubczyce-kultura.pl/wp-content/uploads/2019/02/001.jpg
END:VEVENT
END:VCALENDAR